BEGIN:VCALENDAR
VERSION:2.0
PRODID:-//Wonersh Parish Council//Meeting Calendar//EN
CALSCALE:GREGORIAN
METHOD:PUBLISH
BEGIN:VEVENT
UID:71390-20260514@wonershparish.gov.uk
DTSTAMP:20260424T120553Z
DTSTART;VALUE=DATE:20260514
DTEND;VALUE=DATE:20260515
SUMMARY:Planning Committee Meeting &#8211\\; 14 May 2026
DESCRIPTION:Planning Committee Meeting\nView details: https://wonershparish.gov.uk/meetings/planning-committee-meeting-14-may-2026/
URL:https://wonershparish.gov.uk/meetings/planning-committee-meeting-14-may-2026/
END:VEVENT
END:VCALENDAR
