BEGIN:VCALENDAR
VERSION:2.0
PRODID:-//Wonersh Parish Council//Meeting Calendar//EN
CALSCALE:GREGORIAN
METHOD:PUBLISH
BEGIN:VEVENT
UID:71389-20260514@wonershparish.gov.uk
DTSTAMP:20260420T145755Z
DTSTART;VALUE=DATE:20260514
DTEND;VALUE=DATE:20260515
SUMMARY:Annual Parish Meetings &#8211\\; 14 May 2026
DESCRIPTION:Annual Parish Meetings Meeting\nView details: https://wonershparish.gov.uk/meetings/annual-parish-meetings-14-may-2026/
URL:https://wonershparish.gov.uk/meetings/annual-parish-meetings-14-may-2026/
END:VEVENT
END:VCALENDAR
