BEGIN:VCALENDAR
VERSION:2.0
PRODID:-//Wonersh Parish Council//Meeting Calendar//EN
CALSCALE:GREGORIAN
METHOD:PUBLISH
BEGIN:VEVENT
UID:71019-20260423@wonershparish.gov.uk
DTSTAMP:20260420T022145Z
DTSTART;VALUE=DATE:20260423
DTEND;VALUE=DATE:20260424
SUMMARY:Planning Committee Meeting – 23 April 2026
DESCRIPTION:Planning Committee Meeting\nView details: https://wonershparish.gov.uk/meetings/planning-committee-meeting-23-april-2026/
URL:https://wonershparish.gov.uk/meetings/planning-committee-meeting-23-april-2026/
END:VEVENT
END:VCALENDAR
