BEGIN:VCALENDAR
VERSION:2.0
PRODID:-//Wonersh Parish Council//Meeting Calendar//EN
CALSCALE:GREGORIAN
METHOD:PUBLISH
BEGIN:VEVENT
UID:71017-20260312@wonershparish.gov.uk
DTSTAMP:20260420T052008Z
DTSTART;VALUE=DATE:20260312
DTEND;VALUE=DATE:20260313
SUMMARY:Planning Committee Meeting – 12 March 2026
DESCRIPTION:Planning Committee Meeting\nView details: https://wonershparish.gov.uk/meetings/planning-committee-meeting-12-march-2026/
URL:https://wonershparish.gov.uk/meetings/planning-committee-meeting-12-march-2026/
END:VEVENT
END:VCALENDAR
