BEGIN:VCALENDAR
VERSION:2.0
PRODID:-//Wonersh Parish Council//Meeting Calendar//EN
CALSCALE:GREGORIAN
METHOD:PUBLISH
BEGIN:VEVENT
UID:71016-20260219@wonershparish.gov.uk
DTSTAMP:20260420T064353Z
DTSTART;VALUE=DATE:20260219
DTEND;VALUE=DATE:20260220
SUMMARY:Planning Committee Meeting – 19 February 2026
DESCRIPTION:Planning Committee Meeting\nView details: https://wonershparish.gov.uk/meetings/planning-committee-meeting-19-february-2026/
URL:https://wonershparish.gov.uk/meetings/planning-committee-meeting-19-february-2026/
END:VEVENT
END:VCALENDAR
