BEGIN:VCALENDAR
VERSION:2.0
PRODID:-//Wonersh Parish Council//Meeting Calendar//EN
CALSCALE:GREGORIAN
METHOD:PUBLISH
BEGIN:VEVENT
UID:71013-20251218@wonershparish.gov.uk
DTSTAMP:20260425T115025Z
DTSTART;VALUE=DATE:20251218
DTEND;VALUE=DATE:20251219
SUMMARY:Planning Committee Meeting – 18 December 2025
DESCRIPTION:Planning Committee Meeting\nView details: https://wonershparish.gov.uk/meetings/planning-committee-meeting-18-december-2025/
URL:https://wonershparish.gov.uk/meetings/planning-committee-meeting-18-december-2025/
END:VEVENT
END:VCALENDAR
