BEGIN:VCALENDAR
VERSION:2.0
PRODID:-//Wonersh Parish Council//Meeting Calendar//EN
CALSCALE:GREGORIAN
METHOD:PUBLISH
BEGIN:VEVENT
UID:71012-20251127@wonershparish.gov.uk
DTSTAMP:20260425T115057Z
DTSTART;VALUE=DATE:20251127
DTEND;VALUE=DATE:20251128
SUMMARY:Planning Committee Meeting – 27 November 2025
DESCRIPTION:Planning Committee Meeting\nView details: https://wonershparish.gov.uk/meetings/planning-committee-meeting-27-november-2025/
URL:https://wonershparish.gov.uk/meetings/planning-committee-meeting-27-november-2025/
END:VEVENT
END:VCALENDAR
