BEGIN:VCALENDAR
VERSION:2.0
PRODID:-//Wonersh Parish Council//Meeting Calendar//EN
CALSCALE:GREGORIAN
METHOD:PUBLISH
BEGIN:VEVENT
UID:71011-20251106@wonershparish.gov.uk
DTSTAMP:20260425T143316Z
DTSTART;VALUE=DATE:20251106
DTEND;VALUE=DATE:20251107
SUMMARY:Planning Committee Meeting – 6 November 2025
DESCRIPTION:Planning Committee Meeting\nView details: https://wonershparish.gov.uk/meetings/planning-committee-meeting-6-november-2025/
URL:https://wonershparish.gov.uk/meetings/planning-committee-meeting-6-november-2025/
END:VEVENT
END:VCALENDAR
