BEGIN:VCALENDAR
VERSION:2.0
PRODID:-//Wonersh Parish Council//Meeting Calendar//EN
CALSCALE:GREGORIAN
METHOD:PUBLISH
BEGIN:VEVENT
UID:71010-20251016@wonershparish.gov.uk
DTSTAMP:20260425T133721Z
DTSTART;VALUE=DATE:20251016
DTEND;VALUE=DATE:20251017
SUMMARY:Planning Committee Meeting – 16 October 2025
DESCRIPTION:Planning Committee Meeting\nView details: https://wonershparish.gov.uk/meetings/planning-committee-meeting-16-october-2025/
URL:https://wonershparish.gov.uk/meetings/planning-committee-meeting-16-october-2025/
END:VEVENT
END:VCALENDAR
