BEGIN:VCALENDAR
VERSION:2.0
PRODID:-//Wonersh Parish Council//Meeting Calendar//EN
CALSCALE:GREGORIAN
METHOD:PUBLISH
BEGIN:VEVENT
UID:71009-20250925@wonershparish.gov.uk
DTSTAMP:20260425T133353Z
DTSTART;VALUE=DATE:20250925
DTEND;VALUE=DATE:20250926
SUMMARY:Planning Committee Meeting – 25 September 2025
DESCRIPTION:Planning Committee Meeting\nView details: https://wonershparish.gov.uk/meetings/planning-committee-meeting-25-september-2025/
URL:https://wonershparish.gov.uk/meetings/planning-committee-meeting-25-september-2025/
END:VEVENT
END:VCALENDAR
