BEGIN:VCALENDAR
VERSION:2.0
PRODID:-//Wonersh Parish Council//Meeting Calendar//EN
CALSCALE:GREGORIAN
METHOD:PUBLISH
BEGIN:VEVENT
UID:71008-20250904@wonershparish.gov.uk
DTSTAMP:20260425T133832Z
DTSTART;VALUE=DATE:20250904
DTEND;VALUE=DATE:20250905
SUMMARY:Planning Committee Meeting – 4 September 2025
DESCRIPTION:Planning Committee Meeting\nView details: https://wonershparish.gov.uk/meetings/planning-committee-meeting-4-september-2025/
URL:https://wonershparish.gov.uk/meetings/planning-committee-meeting-4-september-2025/
END:VEVENT
END:VCALENDAR
