BEGIN:VCALENDAR
VERSION:2.0
PRODID:-//Wonersh Parish Council//Meeting Calendar//EN
CALSCALE:GREGORIAN
METHOD:PUBLISH
BEGIN:VEVENT
UID:71007-20250814@wonershparish.gov.uk
DTSTAMP:20260425T145649Z
DTSTART;VALUE=DATE:20250814
DTEND;VALUE=DATE:20250815
SUMMARY:Planning Committee Meeting – 14 August 2025
DESCRIPTION:Planning Committee Meeting\nView details: https://wonershparish.gov.uk/meetings/planning-committee-meeting-14-august-2025/
URL:https://wonershparish.gov.uk/meetings/planning-committee-meeting-14-august-2025/
END:VEVENT
END:VCALENDAR
