BEGIN:VCALENDAR
VERSION:2.0
PRODID:-//Wonersh Parish Council//Meeting Calendar//EN
CALSCALE:GREGORIAN
METHOD:PUBLISH
BEGIN:VEVENT
UID:71006-20250724@wonershparish.gov.uk
DTSTAMP:20260425T145745Z
DTSTART;VALUE=DATE:20250724
DTEND;VALUE=DATE:20250725
SUMMARY:Planning Committee Meeting – 24 July 2025
DESCRIPTION:Planning Committee Meeting\nView details: https://wonershparish.gov.uk/meetings/planning-committee-meeting-24-july-2025/
URL:https://wonershparish.gov.uk/meetings/planning-committee-meeting-24-july-2025/
END:VEVENT
END:VCALENDAR
