BEGIN:VCALENDAR
VERSION:2.0
PRODID:-//Wonersh Parish Council//Meeting Calendar//EN
CALSCALE:GREGORIAN
METHOD:PUBLISH
BEGIN:VEVENT
UID:70808-20200101@wonershparish.gov.uk
DTSTAMP:20260421T142821Z
DTSTART;VALUE=DATE:20200101
DTEND;VALUE=DATE:20200102
SUMMARY:Risk &#038\\; Audit Committee Meetings &#8211\\; 2020
DESCRIPTION:Risk &amp; Audit Committee Meeting\nView details: https://wonershparish.gov.uk/meetings/risk-audit-committee-meetings-2020/
URL:https://wonershparish.gov.uk/meetings/risk-audit-committee-meetings-2020/
END:VEVENT
END:VCALENDAR
