BEGIN:VCALENDAR
VERSION:2.0
PRODID:-//Wonersh Parish Council//Meeting Calendar//EN
CALSCALE:GREGORIAN
METHOD:PUBLISH
BEGIN:VEVENT
UID:70772-20240307@wonershparish.gov.uk
DTSTAMP:20260421T154559Z
DTSTART;VALUE=DATE:20240307
DTEND;VALUE=DATE:20240308
SUMMARY:Risk &#038\\; Audit Committee Meeting &#8211\\; 7 March 2024
DESCRIPTION:Risk &amp; Audit Committee Meeting\nView details: https://wonershparish.gov.uk/meetings/risk-audit-committee-meeting-7-march-2024/
URL:https://wonershparish.gov.uk/meetings/risk-audit-committee-meeting-7-march-2024/
END:VEVENT
END:VCALENDAR
