BEGIN:VCALENDAR
VERSION:2.0
PRODID:-//Wonersh Parish Council//Meeting Calendar//EN
CALSCALE:GREGORIAN
METHOD:PUBLISH
BEGIN:VEVENT
UID:70766-20241117@wonershparish.gov.uk
DTSTAMP:20260423T084338Z
DTSTART;VALUE=DATE:20241117
DTEND;VALUE=DATE:20241118
SUMMARY:Risk &#038\\; Audit Committee Meeting &#8211\\; 17 November 2024
DESCRIPTION:Risk &amp; Audit Committee Meeting\nView details: https://wonershparish.gov.uk/meetings/risk-audit-committee-meeting-17-november-2024/
URL:https://wonershparish.gov.uk/meetings/risk-audit-committee-meeting-17-november-2024/
END:VEVENT
END:VCALENDAR
