BEGIN:VCALENDAR
VERSION:2.0
PRODID:-//Wonersh Parish Council//Meeting Calendar//EN
CALSCALE:GREGORIAN
METHOD:PUBLISH
BEGIN:VEVENT
UID:70716-20220101@wonershparish.gov.uk
DTSTAMP:20260425T133520Z
DTSTART;VALUE=DATE:20220101
DTEND;VALUE=DATE:20220102
SUMMARY:Planning Committee Meetings &#8211\\; 2022
DESCRIPTION:Planning Committee Meeting\nView details: https://wonershparish.gov.uk/meetings/planning-committee-meetings-2022/
URL:https://wonershparish.gov.uk/meetings/planning-committee-meetings-2022/
END:VEVENT
END:VCALENDAR
