BEGIN:VCALENDAR
VERSION:2.0
PRODID:-//Wonersh Parish Council//Meeting Calendar//EN
CALSCALE:GREGORIAN
METHOD:PUBLISH
BEGIN:VEVENT
UID:70651-20240912@wonershparish.gov.uk
DTSTAMP:20260425T211903Z
DTSTART;VALUE=DATE:20240912
DTEND;VALUE=DATE:20240913
SUMMARY:Planning Committee Meeting &#8211\\; 12 September 2024
DESCRIPTION:Planning Committee Meeting\nView details: https://wonershparish.gov.uk/meetings/planning-committee-meeting-12-september-2024/
URL:https://wonershparish.gov.uk/meetings/planning-committee-meeting-12-september-2024/
END:VEVENT
END:VCALENDAR
