BEGIN:VCALENDAR
VERSION:2.0
PRODID:-//Wonersh Parish Council//Meeting Calendar//EN
CALSCALE:GREGORIAN
METHOD:PUBLISH
BEGIN:VEVENT
UID:70636-20250102@wonershparish.gov.uk
DTSTAMP:20260425T182700Z
DTSTART;VALUE=DATE:20250102
DTEND;VALUE=DATE:20250103
SUMMARY:Planning Committee Meeting &#8211\\; 2 January 2025
DESCRIPTION:Planning Committee Meeting\nView details: https://wonershparish.gov.uk/meetings/planning-committee-meeting-2-january-2025/
URL:https://wonershparish.gov.uk/meetings/planning-committee-meeting-2-january-2025/
END:VEVENT
END:VCALENDAR
