BEGIN:VCALENDAR
VERSION:2.0
PRODID:-//Wonersh Parish Council//Meeting Calendar//EN
CALSCALE:GREGORIAN
METHOD:PUBLISH
BEGIN:VEVENT
UID:70634-20250116@wonershparish.gov.uk
DTSTAMP:20260425T181005Z
DTSTART;VALUE=DATE:20250116
DTEND;VALUE=DATE:20250117
SUMMARY:Planning Committee Meeting &#8211\\; 16 January 2025
DESCRIPTION:Planning Committee Meeting\nView details: https://wonershparish.gov.uk/meetings/planning-committee-meeting-16-january-2025/
URL:https://wonershparish.gov.uk/meetings/planning-committee-meeting-16-january-2025/
END:VEVENT
END:VCALENDAR
