BEGIN:VCALENDAR
VERSION:2.0
PRODID:-//Wonersh Parish Council//Meeting Calendar//EN
CALSCALE:GREGORIAN
METHOD:PUBLISH
BEGIN:VEVENT
UID:70510-20250102@wonershparish.gov.uk
DTSTAMP:20260425T102458Z
DTSTART;VALUE=DATE:20250102
DTEND;VALUE=DATE:20250103
SUMMARY:Extraordinary Council Meeting &#8211\\; 2 January 2025
DESCRIPTION:Extraordinary Meeting\nView details: https://wonershparish.gov.uk/meetings/extraordinary-council-meeting-2-january-2025/
URL:https://wonershparish.gov.uk/meetings/extraordinary-council-meeting-2-january-2025/
END:VEVENT
END:VCALENDAR
